BEGIN:VCALENDAR
VERSION:2.0
PRODID:-//ChamberMaster//Event Calendar 2.0//EN
METHOD:PUBLISH
X-PUBLISHED-TTL:P3D
REFRESH-INTERVAL:P3D
CALSCALE:GREGORIAN
BEGIN:VEVENT
DTSTART:20101215T010000Z
DTEND:20101215T010000Z
X-MICROSOFT-CDO-ALLDAYEVENT:FALSE
SUMMARY:Diller-Odell Junior and Senior High School Holiday Concert
DESCRIPTION:Students are asked to be in the music room by 6:40 p.m. The concert is open to the public.
X-ALT-DESC;FMTTYPE=text/html:<strong>Students are asked to be in the music room by 6:40 p.m. The concert is open to the public.</strong>
LOCATION:
UID:e.41.2901
SEQUENCE:3
DTSTAMP:20260425T015526Z
URL:https://business.beatricechamber.com/events/details/diller-odell-junior-and-senior-high-school-holiday-concert-12-14-2010-2901
END:VEVENT

END:VCALENDAR
