BEGIN:VCALENDAR
VERSION:2.0
PRODID:-//ChamberMaster//Event Calendar 2.0//EN
METHOD:PUBLISH
X-PUBLISHED-TTL:P3D
REFRESH-INTERVAL:P3D
CALSCALE:GREGORIAN
BEGIN:VEVENT
DTSTART;VALUE=DATE:20101216
DTEND;VALUE=DATE:20101217
TRANSP:TRANSPARENT
X-MICROSOFT-CDO-ALLDAYEVENT:TRUE
SUMMARY:Diller-Odell K-6 Holiday Concert
DESCRIPTION:Diller-Odell K-6 Holiday Concert\n\n\n\nThursday\, December 16\n\n7 p.m.\n\n\n\nDiller-Odell Elementary School in Diller
X-ALT-DESC;FMTTYPE=text/html:Diller-Odell K-6 Holiday Concert<br />\n<br />\nThursday\, December 16<br />\n7 p.m.<br />\n<br />\nDiller-Odell Elementary School in Diller
LOCATION:
UID:e.41.2925
SEQUENCE:3
DTSTAMP:20260425T014629Z
URL:https://business.beatricechamber.com/events/details/diller-odell-k-6-holiday-concert-12-16-2010-2925
END:VEVENT

END:VCALENDAR
