BEGIN:VCALENDAR
VERSION:2.0
PRODID:-//ChamberMaster//Event Calendar 2.0//EN
METHOD:PUBLISH
X-PUBLISHED-TTL:P3D
REFRESH-INTERVAL:P3D
CALSCALE:GREGORIAN
BEGIN:VEVENT
DTSTART:20101210T230000Z
DTEND:20101210T230000Z
X-MICROSOFT-CDO-ALLDAYEVENT:FALSE
SUMMARY:Diller-Odell Post Prom Potato Bake:
DESCRIPTION:Diller-Odell Post Prom Potato Bake: starts at 5 p.m. Friday during the Diller-Odell Basketball games with Sterling. There will be a freewill donation.
X-ALT-DESC;FMTTYPE=text/html:<strong>Diller-Odell Post Prom Potato Bake: starts at 5 p.m. Friday during the Diller-Odell Basketball games with Sterling. There will be a freewill donation.</strong>
LOCATION:
UID:e.41.2896
SEQUENCE:3
DTSTAMP:20260425T014302Z
URL:https://business.beatricechamber.com/events/details/diller-odell-post-prom-potato-bake-12-10-2010-2896
END:VEVENT

END:VCALENDAR
