BEGIN:VCALENDAR
VERSION:2.0
PRODID:-//ChamberMaster//Event Calendar 2.0//EN
METHOD:PUBLISH
X-PUBLISHED-TTL:P3D
REFRESH-INTERVAL:P3D
CALSCALE:GREGORIAN
BEGIN:VEVENT
DTSTART;VALUE=DATE:20110826
DTEND;VALUE=DATE:20110827
TRANSP:TRANSPARENT
X-MICROSOFT-CDO-ALLDAYEVENT:TRUE
SUMMARY:Diller-Odell to Hold Booster Bash
DESCRIPTION:Diller-Odell will be holding a Back-To-School Booster Bash Friday\, August 26 at the elementary school in Diller.  Volleyball scrimmage will be held at 5 p.m. and a barbecue meal will be held at 6 p.m. and will be followed by a football scrimmage at 7 p.m.\n\n\n\nTickets for barbecue are $5 in advance and $6 the day of the event.  Tickets are available at the elementary school office in Diller and the high school office in Odell.
X-ALT-DESC;FMTTYPE=text/html:Diller-Odell will be holding a Back-To-School Booster Bash Friday\, August 26 at the elementary school in Diller.&nbsp\; Volleyball scrimmage will be held at 5 p.m. and a barbecue meal will be held at 6 p.m. and will be followed by a football scrimmage at 7 p.m.<br />\n<br />\nTickets for barbecue are $5 in advance and $6 the day of the event.&nbsp\; Tickets are available at the elementary school office in Diller and the high school office in Odell.
LOCATION:
UID:e.41.5060
SEQUENCE:3
DTSTAMP:20260424T140344Z
URL:https://business.beatricechamber.com/events/details/diller-odell-to-hold-booster-bash-08-26-2011-5060
END:VEVENT

END:VCALENDAR
