BEGIN:VCALENDAR
VERSION:2.0
PRODID:-//ChamberMaster//Event Calendar 2.0//EN
METHOD:PUBLISH
X-PUBLISHED-TTL:P3D
REFRESH-INTERVAL:P3D
CALSCALE:GREGORIAN
BEGIN:VEVENT
DTSTART;VALUE=DATE:20090709
DTEND;VALUE=DATE:20090712
TRANSP:TRANSPARENT
X-MICROSOFT-CDO-ALLDAYEVENT:TRUE
SUMMARY:Diller Picnic - 113th Celebration ''Blast from the Past''
DESCRIPTION:July 9th - Carnival rides $1 beginning at 7:00 pm\, Fireworks at 10:00July 10th - Nebraska Bush Pullers Tractor Pull 6:30 pmJuly 11th - Mid-States Mud-Draggers - 10:00 am\, Pasture Golf Tournament\, Chicken BBQ and Civil War Reenactment\, Parade at 7:00 pm\,Street Dance featuring Dustin Evans & Good Time Band at 9:00 pm
X-ALT-DESC;FMTTYPE=text/html:<div>July 9th - Carnival rides $1 beginning at 7:00 pm\, Fireworks at 10:00</div><div>July 10th - Nebraska Bush Pullers Tractor Pull 6:30 pm</div><div>July 11th - Mid-States Mud-Draggers - 10:00 am\, Pasture Golf Tournament\, Chicken BBQ and Civil War Reenactment\, Parade at 7:00 pm\,</div><div>Street Dance&nbsp\;featuring Dustin Evans &amp\; Good Time Band at 9:00 pm</div><div>&nbsp\;</div>
LOCATION:
UID:e.41.1154
SEQUENCE:3
DTSTAMP:20260426T025328Z
URL:https://business.beatricechamber.com/events/details/diller-picnic-113th-celebration-blast-from-the-past-07-09-2009-1154
END:VEVENT

END:VCALENDAR
