BEGIN:VCALENDAR
VERSION:2.0
PRODID:-//ChamberMaster//Event Calendar 2.0//EN
METHOD:PUBLISH
X-PUBLISHED-TTL:P3D
REFRESH-INTERVAL:P3D
CALSCALE:GREGORIAN
BEGIN:VEVENT
DTSTART;VALUE=DATE:20120705
DTEND;VALUE=DATE:20120708
TRANSP:TRANSPARENT
X-MICROSOFT-CDO-ALLDAYEVENT:TRUE
SUMMARY:Diller Picnic "Party on the Plains"
DESCRIPTION:2012 Diller Picnic\n\n"Party on the Plains"\n\n\n\n\n\nJuly 5 - 7\, 2012\n\nDiller\, Nebraska\n\n\n\nwww.dillerpicnic.com\n\nor find the Diller Picnic Facebook Page
X-ALT-DESC;FMTTYPE=text/html:2012 Diller Picnic<br />\n&quot\;Party on the Plains&quot\;<br />\n<br />\n<br />\nJuly 5 - 7\, 2012<br />\nDiller\, Nebraska<br />\n<br />\nwww.dillerpicnic.com<br />\nor find the Diller Picnic Facebook Page<br />\n
LOCATION:
UID:e.41.5410
SEQUENCE:3
DTSTAMP:20260422T113940Z
URL:https://business.beatricechamber.com/events/details/diller-picnic-party-on-the-plains-07-05-2012-5410
END:VEVENT

END:VCALENDAR
