BEGIN:VCALENDAR
VERSION:2.0
PRODID:-//ChamberMaster//Event Calendar 2.0//EN
METHOD:PUBLISH
X-PUBLISHED-TTL:P3D
REFRESH-INTERVAL:P3D
CALSCALE:GREGORIAN
BEGIN:VEVENT
DTSTART;VALUE=DATE:20100506
DTEND;VALUE=DATE:20100507
TRANSP:TRANSPARENT
X-MICROSOFT-CDO-ALLDAYEVENT:TRUE
SUMMARY:Dine Out for Foster Children 5/6/2010
DESCRIPTION:Dine Out for Foster Children Thursday\, May 6\, 2010 Participating Restaurants:  Classics Bar & Grill\, West Side Dairy Queen\, and Valentino's.When you dine at a participating restaurant on May 6th\, a portion of the proceeds support children in KVC care.   MAY IS NATIONAL FOSTER CARE MONTH!
X-ALT-DESC;FMTTYPE=text/html:<div style="text-align: center"><span style="font-size: medium">Dine Out for Foster Children</span></div><div style="text-align: center">&nbsp\;</div><div style="text-align: center"><span style="font-size: medium">Thursday\, May 6\, 2010</span></div><div style="text-align: center">&nbsp\;</div><div style="text-align: center"><span style="font-size: medium">Participating Restaurants:&nbsp\; Classics Bar &amp\;&nbsp\;Grill\, West Side Dairy Queen\, and Valentino's.</span></div><div style="text-align: center"><span style="font-size: medium">When you dine at a participating restaurant on May 6th\, a portion of the proceeds support children in KVC care.&nbsp\; </span></div><div style="text-align: center">&nbsp\;</div><div style="text-align: center"><span style="font-size: medium">MAY&nbsp\;IS&nbsp\;NATIONAL FOSTER CARE MONTH!</span></div>
LOCATION:
UID:e.41.1988
SEQUENCE:3
DTSTAMP:20260425T123037Z
URL:https://business.beatricechamber.com/events/details/dine-out-for-foster-children-5-6-2010-05-06-2010-1988
END:VEVENT

END:VCALENDAR
