BEGIN:VCALENDAR
VERSION:2.0
PRODID:-//ChamberMaster//Event Calendar 2.0//EN
METHOD:PUBLISH
X-PUBLISHED-TTL:P3D
REFRESH-INTERVAL:P3D
CALSCALE:GREGORIAN
BEGIN:VEVENT
DTSTART:20111107T113000Z
DTEND:20111108T050000Z
X-MICROSOFT-CDO-ALLDAYEVENT:FALSE
SUMMARY:"Dine Out for Mosaic" at Taco John's
DESCRIPTION:When you dine in or drive through the Beatrice Taco John's on Monday\, November 7th AND verbally announce you are "Dining Out for Mosaic\," 15% of your pre-tax total will be donated to Mosaic in Beatrice!  Mosaic provides a life of possibilites for people with intellectual disabilities.
X-ALT-DESC;FMTTYPE=text/html:&nbsp\;&nbsp\;&nbsp\; When you dine in or drive through the Beatrice Taco John&#39\;s on Monday\, November 7th AND verbally announce you are &quot\;Dining Out for Mosaic\,&quot\; 15% of your pre-tax total will be donated to Mosaic in Beatrice!&nbsp\; Mosaic provides a life of possibilites for people with intellectual disabilities.
LOCATION:Taco John's\, 1215 N. 6th St.\, Beatrice\, NE
UID:e.41.5209
SEQUENCE:3
DTSTAMP:20260424T100034Z
URL:https://business.beatricechamber.com/events/details/dine-out-for-mosaic-at-taco-john-s-11-07-2011-5209
END:VEVENT

END:VCALENDAR
