BEGIN:VCALENDAR
VERSION:2.0
PRODID:-//ChamberMaster//Event Calendar 2.0//EN
METHOD:PUBLISH
X-PUBLISHED-TTL:P3D
REFRESH-INTERVAL:P3D
CALSCALE:GREGORIAN
BEGIN:VEVENT
DTSTART;VALUE=DATE:20101231
DTEND;VALUE=DATE:20110101
TRANSP:TRANSPARENT
X-MICROSOFT-CDO-ALLDAYEVENT:TRUE
SUMMARY:DJ & Party Favors - New Year's Eve Party
DESCRIPTION:DJ & Party Favors - New Year's Party\n\nKABO - 115 S. 5th Street\, Beatrice\n\n402-230-1260\n\n\n\nChampagne & Chambord @ Midnight\n\nCome Party Where Its Warm
X-ALT-DESC;FMTTYPE=text/html:DJ &amp\; Party Favors - New Year&#39\;s Party<br />\nKABO - 115 S. 5th Street\, Beatrice<br />\n402-230-1260<br />\n<br />\nChampagne &amp\; Chambord @ Midnight<br />\nCome Party Where Its Warm
LOCATION:
UID:e.41.3162
SEQUENCE:3
DTSTAMP:20260425T015642Z
URL:https://business.beatricechamber.com/events/details/dj-party-favors-new-year-s-eve-party-12-31-2010-3162
END:VEVENT

END:VCALENDAR
