BEGIN:VCALENDAR
VERSION:2.0
PRODID:-//ChamberMaster//Event Calendar 2.0//EN
METHOD:PUBLISH
X-PUBLISHED-TTL:P3D
REFRESH-INTERVAL:P3D
CALSCALE:GREGORIAN
BEGIN:VEVENT
DTSTART:20110423T190000Z
DTEND:20110423T210000Z
X-MICROSOFT-CDO-ALLDAYEVENT:FALSE
SUMMARY:Dogs Deserve Better Puppy Shower
DESCRIPTION:Dogs Deserve Better "Puppy Shower"\n\nSaturday\, April 23\n\n2 - 4 pm\n\n\n\nBeatrice Public Library\n\nSargent Room\n\n\n\nFundraiser to support a litter of seven Cairn Terrier puppies being received into foster care.  Persons can also apply to adopt a puppy at that time.\n\nRefreshments will be served.\n\n\n\nDogs Deserve Better Nebraska works to educate\, legislate\, rescue and rehabilitate formerly chained dogs.  For more information\, contact Gayla Hausman at 402-239-5106 or gayla_hausman@hotmail.com.
X-ALT-DESC;FMTTYPE=text/html:Dogs Deserve Better &quot\;Puppy Shower&quot\;<br />\nSaturday\, April 23<br />\n2 - 4 pm<br />\n<br />\nBeatrice Public Library<br />\nSargent Room<br />\n<br />\nFundraiser to support a litter of seven Cairn Terrier puppies being received into foster care.&nbsp\; Persons can also apply to adopt a puppy at that time.<br />\nRefreshments will be served.<br />\n<br />\nDogs Deserve Better Nebraska works to educate\, legislate\, rescue and rehabilitate formerly chained dogs.&nbsp\; For more information\, contact Gayla Hausman at 402-239-5106 or <a href="mailto:gayla_hausman@hotmail.com">gayla_hausman@hotmail.com</a>.
LOCATION:
UID:e.41.4595
SEQUENCE:3
DTSTAMP:20260424T200211Z
URL:https://business.beatricechamber.com/events/details/dogs-deserve-better-puppy-shower-04-23-2011-4595
END:VEVENT

END:VCALENDAR
