BEGIN:VCALENDAR
VERSION:2.0
PRODID:-//ChamberMaster//Event Calendar 2.0//EN
METHOD:PUBLISH
X-PUBLISHED-TTL:P3D
REFRESH-INTERVAL:P3D
CALSCALE:GREGORIAN
BEGIN:VEVENT
DTSTART;VALUE=DATE:20120315
DTEND;VALUE=DATE:20120316
TRANSP:TRANSPARENT
X-MICROSOFT-CDO-ALLDAYEVENT:TRUE
SUMMARY:Doo Wop Singers\, "Blend" in concert
DESCRIPTION:Community Players will host the nation's number one a cappella doo wop revue\, "Blend\," in concert!\n\n	\n\n	Thursday\, March 15\n\n	7:30 pm\n\n	\n\n	Tickets are $10 for adults and $8 for students and may be purchased now at Community Players Box Office\, 412 Ella Street\, online at www.beatricecommunityplayers.com or at the door that night.\n\n	\n\n	Funds raised by the concert will help support the theater's expanding youth education programs.\n\n	\n\n	Blend is an a cappella quartet that brings back the hits of the 50s and 60s with a twist of fun. \n\n	For more information\, call 402-228-1801 or visit www.beatricecommunityplayers.com.
X-ALT-DESC;FMTTYPE=text/html:<p>\n	Community Players will host the nation&#39\;s number one a cappella doo wop revue\, &quot\;Blend\,&quot\; in concert!<br />\n	<br />\n	Thursday\, March 15<br />\n	7:30 pm<br />\n	<br />\n	Tickets are $10 for adults and $8 for students and may be purchased now at Community Players Box Office\, 412 Ella Street\, online at www.beatricecommunityplayers.com or at the door that night.<br />\n	<br />\n	Funds raised by the concert will help support the theater&#39\;s expanding youth education programs.<br />\n	<br />\n	Blend is an a cappella quartet that brings back the hits of the 50s and 60s with a twist of fun.&nbsp\;<br />\n	For more information\, call 402-228-1801 or visit <a href="http://www.beat">www.beat</a>ricecommunityplayers.com.<br />\n	&nbsp\;</p>\n
LOCATION:
UID:e.41.5396
SEQUENCE:3
DTSTAMP:20260422T173414Z
URL:https://business.beatricechamber.com/events/details/doo-wop-singers-blend-in-concert-03-15-2012-5396
END:VEVENT

END:VCALENDAR
