BEGIN:VCALENDAR
VERSION:2.0
PRODID:-//ChamberMaster//Event Calendar 2.0//EN
METHOD:PUBLISH
X-PUBLISHED-TTL:P3D
REFRESH-INTERVAL:P3D
CALSCALE:GREGORIAN
BEGIN:VEVENT
DTSTART;VALUE=DATE:20120726
DTEND;VALUE=DATE:20120727
TRANSP:TRANSPARENT
X-MICROSOFT-CDO-ALLDAYEVENT:TRUE
SUMMARY:DQ Miracle Treat Day
DESCRIPTION:Beat the summer heat with a cool treat and help kids in need by visiting participating DQ locations for the seventh annual Miracle Treat Day.\n\n\n\nFor every Blizzard Treat sold that day\, participating Dairy Queen locations will donate $1 or more to Children's Miracle Network Hospitals\, a charity that raises funds for 170 children's hospitals across the United States and Canada.\n\n\n\nDairy Queen locations in Beatrice are 901 E. Court St. and 500 W. Court St.
X-ALT-DESC;FMTTYPE=text/html:Beat the summer heat with a cool treat and help kids in need by visiting participating DQ locations for the seventh annual Miracle Treat Day.<br />\n<br />\nFor every Blizzard Treat sold that day\, participating Dairy Queen locations will donate $1 or more to Children&#39\;s Miracle Network Hospitals\, a charity that raises funds for 170 children&#39\;s hospitals across the United States and Canada.<br />\n<br />\nDairy Queen locations in Beatrice are 901 E. Court St. and 500 W. Court St.
LOCATION:
UID:e.41.6329
SEQUENCE:3
DTSTAMP:20260422T114518Z
URL:https://business.beatricechamber.com/events/details/dq-miracle-treat-day-07-26-2012-6329
END:VEVENT

END:VCALENDAR
