BEGIN:VCALENDAR
VERSION:2.0
PRODID:-//ChamberMaster//Event Calendar 2.0//EN
METHOD:PUBLISH
X-PUBLISHED-TTL:P3D
REFRESH-INTERVAL:P3D
CALSCALE:GREGORIAN
BEGIN:VEVENT
DTSTART:20120929T150000Z
DTEND:20120929T190000Z
X-MICROSOFT-CDO-ALLDAYEVENT:FALSE
SUMMARY:Drug Take-back
DESCRIPTION:Properly disposing of expired\, unneeded and unwanted medication is the focus of the Fall DEA Pharmaceutical Take-Back event.\n\nTwo locations are accepting these items--the Gage County Sheriff's Department at 612 Lincoln St.\, Beatrice and the Wymore Police Department at 302 S. Sixth St.\, Wymore.\n\n\n\nItems accepted include prescription medications\, over-the-counter medications\, medication samples\, pet medications\, vitamins\, ointments or lotions\, inhalers and liquid medications. These should be brought in their original container with personal information marked out\, or in one large container.\n\n\n\nThe following products should not be brought to these sights:\n\n	\n		needles\n	\n		thermometers\n	\n		IV bags\n	\n		personal care products\n	\n		empty containers\n	\n		aerosol cans
X-ALT-DESC;FMTTYPE=text/html:Properly disposing of expired\, unneeded and unwanted medication is the focus of the Fall DEA Pharmaceutical Take-Back event.<br />\nTwo locations are accepting these items--the Gage County Sheriff&#39\;s Department at 612 Lincoln St.\, Beatrice and the Wymore Police Department at 302 S. Sixth St.\, Wymore.<br />\n<br />\nItems accepted include prescription medications\, over-the-counter medications\, medication samples\, pet medications\, vitamins\, ointments or lotions\, inhalers and liquid medications. These should be brought in their original container with personal information marked out\, or in one large container.<br />\n<br />\nThe following products should not be brought to these sights:\n<ul>\n	<li>\n		needles</li>\n	<li>\n		thermometers</li>\n	<li>\n		IV bags</li>\n	<li>\n		personal care products</li>\n	<li>\n		empty containers</li>\n	<li>\n		aerosol cans</li>\n</ul>\n
LOCATION:Gage County Sheriff's Department 612 Lincoln St. Beatrice\, NE Wymore Police Department 302 S. Sixth St. Wymore\, NE
UID:e.41.6853
SEQUENCE:3
DTSTAMP:20260422T090341Z
URL:https://business.beatricechamber.com/events/details/drug-take-back-09-29-2012-6853
END:VEVENT

END:VCALENDAR
