BEGIN:VCALENDAR
VERSION:2.0
PRODID:-//ChamberMaster//Event Calendar 2.0//EN
METHOD:PUBLISH
X-PUBLISHED-TTL:P3D
REFRESH-INTERVAL:P3D
CALSCALE:GREGORIAN
BEGIN:VEVENT
DTSTART:20091206T220000Z
DTEND:20091207T010000Z
X-MICROSOFT-CDO-ALLDAYEVENT:FALSE
SUMMARY:Eagle's Club Soup Supper
DESCRIPTION:Beatrice Eagle's ClubHosting Soup SupperAll-U-Can-Eat4:00 - 7:00 pm$4 per person Eagle's ClubLower Level Chili\, chicken noodle\, vegetable and ham & bean Soups
X-ALT-DESC;FMTTYPE=text/html:<div>Beatrice Eagle's Club</div><div>Hosting Soup Supper</div><div>All-U-Can-Eat</div><div>4:00 - 7:00 pm</div><div>$4 per person</div><div>&nbsp\;</div><div>Eagle's Club</div><div>Lower Level</div><div>&nbsp\;</div><div>Chili\, chicken noodle\, vegetable and ham &amp\; bean Soups</div><div>&nbsp\;</div>
LOCATION:
UID:e.41.1553
SEQUENCE:3
DTSTAMP:20260425T194052Z
URL:https://business.beatricechamber.com/events/details/eagle-s-club-soup-supper-12-06-2009-1553
END:VEVENT

END:VCALENDAR
