BEGIN:VCALENDAR
VERSION:2.0
PRODID:-//ChamberMaster//Event Calendar 2.0//EN
METHOD:PUBLISH
X-PUBLISHED-TTL:P3D
REFRESH-INTERVAL:P3D
CALSCALE:GREGORIAN
BEGIN:VEVENT
DTSTART;VALUE=DATE:20091231
DTEND;VALUE=DATE:20100101
TRANSP:TRANSPARENT
X-MICROSOFT-CDO-ALLDAYEVENT:TRUE
SUMMARY:EARLY BIRD RSVP DEADLINE for Reservations to Annual Banquet
DESCRIPTION:Annual Banquet Early Bird Reservation Deadline December 31 The "Early Bird Reservation" deadline is December 31\, 2009 for the Beatrice Area Chamber ofCommerce Annual Banquet presented by Security First Bank. Early Bird reservations received by December 31\, 2009 will be entered into a drawing for the opportunity for chauffeured transportation to and from the banquet courtesy of Carriage Motors. The Beatrice Area Chamber of Commerce and Gage County Tourism Annual Banquet will be held Friday\, January 22nd\, 2010 at Classic's Bar & Grill by the Beatrice Country Club.Dress up in your favorite 70's attire as we celebrate 90 years of the Beatrice Chamber with a Variety Show of entertainment\, with emcee of the event\, Arvid Wiest. Social hour is at 6:00 PM with dinner at 6:45\, chamber awards program at 7:30\, Variety "Gong Show" at 8:00\, followed immediately by Live Auction of Chainsaw Carvings created at 2009 Homestead Days. Tickets are $30 and reservations are made upon receipt of payment at the Chamber Office. The favor of your reply is requested by January 8\, 2010. Cancellations must be made 48 hours prior to the event for a full refund. All Beatrice Area Chamber of Commerce members and employees are invited to attend.For more information or ticket reservations please call the chamber office at 402-223-2338 or visit the website at www.beatricechamber.com
X-ALT-DESC;FMTTYPE=text/html:<div><div align="center"><b>Annual Banquet Early Bird Reservation Deadline December 31</b></div><div align="center"><b>&nbsp\;</b></div><div>The &ldquo\;Early Bird Reservation&rdquo\; deadline is December 31\, 2009 for the Beatrice Area Chamber of</div><div>Commerce Annual Banquet presented by Security First Bank.&nbsp\;Early Bird reservations received by December 31\, 2009 will be entered into a drawing for the opportunity for chauffeured transportation to and from the banquet courtesy of Carriage Motors.</div><div>&nbsp\;</div><div>The Beatrice Area Chamber of Commerce and Gage County Tourism Annual Banquet will be held Friday\, January 22<sup>nd</sup>\, 2010 at Classic&rsquo\;s Bar &amp\; Grill by the Beatrice Country Club.</div><div>Dress up in your favorite 70&rsquo\;s attire as we celebrate 90 years of the Beatrice Chamber with a Variety Show of entertainment\, with emcee of the event\, Arvid Wiest.</div><div>&nbsp\;</div><div>Social hour is at 6:00 PM with dinner at 6:45\, chamber awards program at 7:30\, Variety &ldquo\;Gong Show&rdquo\; at 8:00\, followed immediately by Live Auction of Chainsaw Carvings created at 2009 Homestead Days. Tickets are $30 and reservations are made upon receipt of payment at the Chamber Office. The favor of your reply is requested by January 8\, 2010. Cancellations must be made 48 hours prior to the event for a full refund.</div><div>&nbsp\;</div><div>All Beatrice Area Chamber of Commerce members and employees are invited to attend.</div>For more information or ticket reservations please call the chamber office at 402-223-2338 or visit the website at www.beatricechamber.com</div>
LOCATION:
UID:e.41.1576
SEQUENCE:3
DTSTAMP:20260425T194621Z
URL:https://business.beatricechamber.com/events/details/early-bird-rsvp-deadline-for-reservations-to-annual-banquet-12-31-2009-1576
END:VEVENT

END:VCALENDAR
