BEGIN:VCALENDAR
VERSION:2.0
PRODID:-//ChamberMaster//Event Calendar 2.0//EN
METHOD:PUBLISH
X-PUBLISHED-TTL:P3D
REFRESH-INTERVAL:P3D
CALSCALE:GREGORIAN
BEGIN:VEVENT
DTSTART:20120331T210000Z
DTEND:20120331T230000Z
X-MICROSOFT-CDO-ALLDAYEVENT:FALSE
SUMMARY:Easter Egg Hunt
DESCRIPTION:Join us for a Easter Egg Hunt at St. Paul School
X-ALT-DESC;FMTTYPE=text/html:Join us for a Easter Egg Hunt at St. Paul School
LOCATION:930 Priairie Ave.
UID:e.41.5435
SEQUENCE:3
DTSTAMP:20260422T171052Z
URL:https://business.beatricechamber.com/events/details/easter-egg-hunt-03-31-2012-5435
END:VEVENT

END:VCALENDAR
