BEGIN:VCALENDAR
VERSION:2.0
PRODID:-//ChamberMaster//Event Calendar 2.0//EN
METHOD:PUBLISH
X-PUBLISHED-TTL:P3D
REFRESH-INTERVAL:P3D
CALSCALE:GREGORIAN
BEGIN:VEVENT
DTSTART;VALUE=DATE:20100403
DTEND;VALUE=DATE:20100404
TRANSP:TRANSPARENT
X-MICROSOFT-CDO-ALLDAYEVENT:TRUE
SUMMARY:Easter Egg Hunt 4/3/10
DESCRIPTION:Annual Easter Egg Hunt Saturday\, April 3\, 201011 a.m. Chautauqua ParkBeatrice\, NE Children ages nine and younger are invited to join in the event\, with participants divided into four age groups.  In case of rain\, eggs will be distributed under the tabernacle in the park.
X-ALT-DESC;FMTTYPE=text/html:<div>Annual Easter Egg Hunt</div><div>&nbsp\;</div><div>Saturday\, April 3\, 2010</div><div>11 a.m.</div><div>&nbsp\;</div><div>Chautauqua Park</div><div>Beatrice\, NE</div><div>&nbsp\;</div><div>Children ages nine and younger are invited to join in the event\, with participants divided into four age groups.&nbsp\;</div><div>&nbsp\;</div><div>In case of rain\, eggs will be distributed under the tabernacle in the park.</div>
LOCATION:
UID:e.41.1935
SEQUENCE:3
DTSTAMP:20260425T135226Z
URL:https://business.beatricechamber.com/events/details/easter-egg-hunt-4-3-10-04-03-2010-1935
END:VEVENT

END:VCALENDAR
