BEGIN:VCALENDAR
VERSION:2.0
PRODID:-//ChamberMaster//Event Calendar 2.0//EN
METHOD:PUBLISH
X-PUBLISHED-TTL:P3D
REFRESH-INTERVAL:P3D
CALSCALE:GREGORIAN
BEGIN:VEVENT
DTSTART;VALUE=DATE:20120117
DTEND;VALUE=DATE:20120118
TRANSP:TRANSPARENT
X-MICROSOFT-CDO-ALLDAYEVENT:TRUE
SUMMARY:EBBA
DESCRIPTION:"EBBA" (East Beatrice Business Association)\n\nMonthly meeting\n\n8:00 a.m.\n\n\n\nat Beatrice City Auditorium Conference Room\n\n205 N 4th Street\, Beatrice\n\n\n\nFor more information regarding EBBA\, contact the Beatrice Area Chamber of Commerce\, 402-223-2338 or email info@beatricechamber.com.\n\n\n\nVisit our website www.beatricechamber.com
X-ALT-DESC;FMTTYPE=text/html:&quot\;EBBA&quot\; (East Beatrice Business Association)<br />\nMonthly meeting<br />\n8:00 a.m.<br />\n<br />\nat Beatrice City Auditorium Conference Room<br />\n205 N 4th Street\, Beatrice<br />\n<br />\nFor more information regarding EBBA\, contact the Beatrice Area Chamber of Commerce\, 402-223-2338 or email info@beatricechamber.com.<br />\n<br />\nVisit our website www.beatricechamber.com<br />\n
LOCATION:
UID:e.41.3248
SEQUENCE:3
DTSTAMP:20260422T201800Z
URL:https://business.beatricechamber.com/events/details/ebba-01-17-2012-3248
END:VEVENT

END:VCALENDAR
