BEGIN:VCALENDAR
VERSION:2.0
PRODID:-//ChamberMaster//Event Calendar 2.0//EN
METHOD:PUBLISH
X-PUBLISHED-TTL:P3D
REFRESH-INTERVAL:P3D
CALSCALE:GREGORIAN
BEGIN:VEVENT
DTSTART:20090721T130000Z
DTEND:20090722T020000Z
X-MICROSOFT-CDO-ALLDAYEVENT:FALSE
SUMMARY:EBBA Meeting
DESCRIPTION:
X-ALT-DESC;FMTTYPE=text/html:
LOCATION:Chamber OfficeConference Room
UID:e.41.1273
SEQUENCE:3
DTSTAMP:20260426T024033Z
URL:https://business.beatricechamber.com/events/details/ebba-meeting-07-21-2009-1273
END:VEVENT

END:VCALENDAR
