BEGIN:VCALENDAR
VERSION:2.0
PRODID:-//ChamberMaster//Event Calendar 2.0//EN
METHOD:PUBLISH
X-PUBLISHED-TTL:P3D
REFRESH-INTERVAL:P3D
CALSCALE:GREGORIAN
BEGIN:VEVENT
DTSTART:20090915T130000Z
DTEND:20090916T020000Z
X-MICROSOFT-CDO-ALLDAYEVENT:FALSE
SUMMARY:EBBA Meeting
DESCRIPTION:
X-ALT-DESC;FMTTYPE=text/html:
LOCATION:Old Chamber Office - 226 S 6thConference Room
UID:e.41.1400
SEQUENCE:3
DTSTAMP:20260425T233738Z
URL:https://business.beatricechamber.com/events/details/ebba-meeting-09-15-2009-1400
END:VEVENT

END:VCALENDAR
