BEGIN:VCALENDAR
VERSION:2.0
PRODID:-//ChamberMaster//Event Calendar 2.0//EN
METHOD:PUBLISH
X-PUBLISHED-TTL:P3D
REFRESH-INTERVAL:P3D
CALSCALE:GREGORIAN
BEGIN:VEVENT
DTSTART:20110311T010000Z
DTEND:20110311T033000Z
X-MICROSOFT-CDO-ALLDAYEVENT:FALSE
SUMMARY:Educational Meeting
DESCRIPTION:Location: Extension Office Meeting Room in Beatrice.\n\n\n\nFee: $10 per person\, maximum of $20 per business regardless of number attending.\n\n\n\n"Succession Planning Superheros and Seven Themes of Generational Succession\;" Dave Specht\, Lecturer\, University of Nebraska\, College of Business Administration.\n\n\n\n"The State of Estate Taxes\;" Duane Smith. Paul C Hay: phay1@unl.edu\, call 402-223-1384\, or visit the Web site: gage.unl.edu
X-ALT-DESC;FMTTYPE=text/html:<strong>Location:</strong> Extension Office Meeting Room in Beatrice.<br />\n<br />\n<strong>Fee:</strong> $10 per person\, maximum of $20 per business regardless of number attending.<br />\n<br />\n&quot\;Succession Planning Superheros and Seven Themes of Generational Succession\;&quot\; Dave Specht\, Lecturer\, University of Nebraska\, College of Business Administration.<br />\n<br />\n&quot\;The State of Estate Taxes\;&quot\; Duane Smith. Paul C Hay: phay1@unl.edu\, call <strong>402-223-1384</strong>\, or visit the Web site: <a href="http://gage.unl.edu">gage.unl.edu</a>
LOCATION:
UID:e.41.4216
SEQUENCE:3
DTSTAMP:20260424T211629Z
URL:https://business.beatricechamber.com/events/details/educational-meeting-03-10-2011-4216
END:VEVENT

END:VCALENDAR
