BEGIN:VCALENDAR
VERSION:2.0
PRODID:-//ChamberMaster//Event Calendar 2.0//EN
METHOD:PUBLISH
X-PUBLISHED-TTL:P3D
REFRESH-INTERVAL:P3D
CALSCALE:GREGORIAN
BEGIN:VEVENT
DTSTART:20120331T140000Z
DTEND:20120331T190000Z
X-MICROSOFT-CDO-ALLDAYEVENT:FALSE
SUMMARY:Electronic Recycling Fundraiser
DESCRIPTION:Electronic Recycling Fundraiser\n\nSponsored by: Beatrice Fine Arts Boosters\n\nFor: New! High School Band Uniforms\n\n\n\nSaturday\, March 31\n\n9 am - 2 pm\n\n\n\nHigh School Parking Lot\, Hwy 136 & Orange Blvd\n\n\n\nRecycle your:\n\nComputers\, Bar coders\, Circuit boards\, Copiers\, CD/DVD drives\, DVD players\, Fax machines\, Hand held devices\, Medical equipment\, Keyboards\, Modems\, Monitors\, Printers\, Routers\, Scanners\, Servers\, Telephone equipment\n\n\n\nExtra Charges: Computer Monitors: $10\, TVs up to 21" $10\, TVs 21" and Up $20\, Console TVs are $25\, Large Appliances $10\,\n\n\n\nCertificates of Destruction for Hard Drives and Tax Receipts are available when requested.
X-ALT-DESC;FMTTYPE=text/html:Electronic Recycling Fundraiser<br />\nSponsored by: Beatrice Fine Arts Boosters<br />\nFor: New! High School Band Uniforms<br />\n<br />\nSaturday\, March 31<br />\n9 am - 2 pm<br />\n<br />\nHigh School Parking Lot\, Hwy 136 &amp\; Orange Blvd<br />\n<br />\nRecycle your:<br />\nComputers\, Bar coders\, Circuit boards\, Copiers\, CD/DVD drives\, DVD players\, Fax machines\, Hand held devices\, Medical equipment\, Keyboards\, Modems\, Monitors\, Printers\, Routers\, Scanners\, Servers\, Telephone equipment<br />\n<br />\nExtra Charges: Computer Monitors: $10\, TVs up to 21&quot\; $10\, TVs 21&quot\; and Up $20\, Console TVs are $25\, Large Appliances $10\,<br />\n<br />\nCertificates of Destruction for Hard Drives and Tax Receipts are available when requested.
LOCATION:
UID:e.41.5433
SEQUENCE:3
DTSTAMP:20260422T172115Z
URL:https://business.beatricechamber.com/events/details/electronic-recycling-fundraiser-03-31-2012-5433
END:VEVENT

END:VCALENDAR
