BEGIN:VCALENDAR
VERSION:2.0
PRODID:-//ChamberMaster//Event Calendar 2.0//EN
METHOD:PUBLISH
X-PUBLISHED-TTL:P3D
REFRESH-INTERVAL:P3D
CALSCALE:GREGORIAN
BEGIN:VEVENT
DTSTART:20101107T170000Z
DTEND:20101107T190000Z
X-MICROSOFT-CDO-ALLDAYEVENT:FALSE
SUMMARY:Ellis Roast Beef Dinner
DESCRIPTION:Ellis Roast Beef Dinner\n\n\n\n11:00 a.m.- 1 p.m.\n\n\n\nEllis United Methodist Church\n\n\n\nAdults $7.50\, children 5 and younger $2. Bake sale items available: cakes\, cookies\, candies\, crafts and much more.
X-ALT-DESC;FMTTYPE=text/html:<strong>Ellis Roast Beef Dinner</strong><br />\n<br />\n11:00 a.m.- 1 p.m.<br />\n<br />\nEllis United Methodist Church<br />\n<br />\nAdults $7.50\, children 5 and younger $2. Bake sale items available: cakes\, cookies\, candies\, crafts and much more.
LOCATION:
UID:e.41.2726
SEQUENCE:3
DTSTAMP:20260425T032432Z
URL:https://business.beatricechamber.com/events/details/ellis-roast-beef-dinner-11-07-2010-2726
END:VEVENT

END:VCALENDAR
