BEGIN:VCALENDAR
VERSION:2.0
PRODID:-//ChamberMaster//Event Calendar 2.0//EN
METHOD:PUBLISH
X-PUBLISHED-TTL:P3D
REFRESH-INTERVAL:P3D
CALSCALE:GREGORIAN
BEGIN:VEVENT
DTSTART:20110206T170000Z
DTEND:20110206T190000Z
X-MICROSOFT-CDO-ALLDAYEVENT:FALSE
SUMMARY:Ellis UMC Pancake & Whole Hog Sausage Dinner
DESCRIPTION:Ellis UMC Pancake & Whole Hog Sausage Dinner\n\n\n\nSunday\, February 6\n\n11 a.m. - 1 p.m.\n\n\n\nEllis United Methodist Church Fellowship Hall\n\nBake Sale Items
X-ALT-DESC;FMTTYPE=text/html:Ellis UMC Pancake &amp\; Whole Hog Sausage Dinner<br />\n<br />\nSunday\, February 6<br />\n11 a.m. - 1 p.m.<br />\n<br />\nEllis United Methodist Church Fellowship Hall<br />\nBake Sale Items
LOCATION:
UID:e.41.3294
SEQUENCE:3
DTSTAMP:20260424T225744Z
URL:https://business.beatricechamber.com/events/details/ellis-umc-pancake-whole-hog-sausage-dinner-02-06-2011-3294
END:VEVENT

END:VCALENDAR
