BEGIN:VCALENDAR
VERSION:2.0
PRODID:-//ChamberMaster//Event Calendar 2.0//EN
METHOD:PUBLISH
X-PUBLISHED-TTL:P3D
REFRESH-INTERVAL:P3D
CALSCALE:GREGORIAN
BEGIN:VEVENT
DTSTART;VALUE=DATE:20101107
DTEND;VALUE=DATE:20101108
TRANSP:TRANSPARENT
X-MICROSOFT-CDO-ALLDAYEVENT:TRUE
SUMMARY:Ellis United Methodist roast beef dinner
DESCRIPTION:Ellis United Methodist roast beef dinner:\n\n\n\nThe Ellis United Methodist Church is hosting its annual roast beef dinner Sunday\, Nov. 7\, from 11:00 a.m. -1 p.m.\n\n\n\nCost of the meal is $7.50 for adults and $2.00 for children ages fivr years and younger.\n\n\n\nCakes\, cookies\, candies and crafts will also be available for purchase.
X-ALT-DESC;FMTTYPE=text/html:<strong><span style="font-size: 14px">Ellis United Methodist roast beef dinner:</span></strong><br />\n<br />\nThe Ellis United Methodist Church is hosting its annual roast beef dinner Sunday\, Nov. 7\, from 11:00 a.m. -1 p.m.<br />\n<br />\nCost of the meal is $7.50 for adults and $2.00 for children ages fivr years and younger.<br />\n<br />\nCakes\, cookies\, candies and crafts will also be available for purchase.
LOCATION:
UID:e.41.2781
SEQUENCE:3
DTSTAMP:20260425T032638Z
URL:https://business.beatricechamber.com/events/details/ellis-united-methodist-roast-beef-dinner-11-07-2010-2781
END:VEVENT

END:VCALENDAR
