BEGIN:VCALENDAR
VERSION:2.0
PRODID:-//ChamberMaster//Event Calendar 2.0//EN
METHOD:PUBLISH
X-PUBLISHED-TTL:P3D
REFRESH-INTERVAL:P3D
CALSCALE:GREGORIAN
BEGIN:VEVENT
DTSTART;VALUE=DATE:20120617
DTEND;VALUE=DATE:20120618
TRANSP:TRANSPARENT
X-MICROSOFT-CDO-ALLDAYEVENT:TRUE
SUMMARY:Elvis is in the Building!!
DESCRIPTION:Elvis is in the Building!\n\nJoseph Hall from NBC's "America's Got Talent" will be at Aunt Mary's Center on June 17th\, 2012 from 2:00-4:00pm and a Meet and Greet from 4:00 to 5:00pm. Joseph Hall is an Elvis Tribute Artist and Branson's Performer of the Year!\n\nTickets are $20.00 each and $25.00 for VIP seating. Tickets available in advance! Contact Heather for more information.\n\n402-230-0156
X-ALT-DESC;FMTTYPE=text/html:Elvis is in the Building!<br />\nJoseph Hall from NBC&#39\;s &quot\;America&#39\;s Got Talent&quot\; will be at Aunt Mary&#39\;s Center on June 17th\, 2012 from 2:00-4:00pm and a Meet and Greet from 4:00 to 5:00pm. Joseph Hall is an Elvis Tribute Artist and Branson&#39\;s Performer of the Year!<br />\nTickets are $20.00 each and $25.00 for VIP seating. Tickets available in advance! Contact Heather for more information.<br />\n402-230-0156
LOCATION:Aunt Mary's Center
UID:e.41.5726
SEQUENCE:3
DTSTAMP:20260422T131115Z
URL:https://business.beatricechamber.com/events/details/elvis-is-in-the-building-06-17-2012-5726
END:VEVENT

END:VCALENDAR
