BEGIN:VCALENDAR
VERSION:2.0
PRODID:-//ChamberMaster//Event Calendar 2.0//EN
METHOD:PUBLISH
X-PUBLISHED-TTL:P3D
REFRESH-INTERVAL:P3D
CALSCALE:GREGORIAN
BEGIN:VEVENT
DTSTART:20100224T173000Z
DTEND:20100224T190000Z
X-MICROSOFT-CDO-ALLDAYEVENT:FALSE
SUMMARY:Empty Bowls Luncheon
DESCRIPTION:Empty Bowls LuncheonHoliday Inn Express\, Beatrice Proceeds to benefit the Beatrice Backpack Program"Help us fill empty bowls of the needy!" Serving a variety of soups from Beatrice fine restaurants.Attendees will receive a pottery bowl crafted by BHS and SCC Art Students and Ervin Dixon TICKETS ARE AVAILABLE FOR $25 BY CONTACTINGKristy Thies 228-2333 kristy.thies@pinnbank.comPatty Kaufman 223-6398 patty.kaufman@exmark.comPeggy Johnson 228-2456 margaret_johnson@bpsne.orgOr at Pinnacle\, Security First and 1st National Omaha Banks
X-ALT-DESC;FMTTYPE=text/html:<h1 style="text-align: center"><u>Empty Bowls Luncheon</u></h1><h2 style="text-align: center">Holiday Inn Express\, Beatrice</h2><h2 style="text-align: center">&nbsp\;</h2><h3 style="text-align: center">Proceeds to benefit the Beatrice Backpack Program</h3><h3 style="text-align: center">&quot\;Help us fill empty bowls of the needy!&quot\;</h3><h3>&nbsp\;</h3><div><span style="font-size: medium">Serving a variety of soups from Beatrice fine restaurants.</span></div><div><span style="font-size: medium">Attendees will receive a pottery bowl crafted by BHS and SCC&nbsp\;Art Students and Ervin Dixon</span></div><h3 style="text-align: center">&nbsp\;</h3><h2 style="text-align: center"><strong>TICKETS ARE AVAILABLE FOR $25</strong> <strong>BY CONTACTING</strong></h2><h5 style="text-align: center">Kristy Thies 228-2333 <a href="mailto:kristy.thies@pinnbank.com">kristy.thies@pinnbank.com</a></h5><h5 style="text-align: center">Patty Kaufman 223-6398 <a href="mailto:patty.kaufman@exmark.com">patty.kaufman@exmark.com</a></h5><h5 style="text-align: center">Peggy Johnson 228-2456 <a href="mailto:margaret_johnson@bpsne.org">margaret_johnson@bpsne.org</a></h5><h5 style="text-align: center">Or at Pinnacle\, Security First and 1st National Omaha Banks</h5>
LOCATION:Holiday Inn Express4005 N 6th StreetBeatrice\, NE
UID:e.41.1584
SEQUENCE:3
DTSTAMP:20260425T164404Z
URL:https://business.beatricechamber.com/events/details/empty-bowls-luncheon-02-24-2010-1584
END:VEVENT

END:VCALENDAR
