BEGIN:VCALENDAR
VERSION:2.0
PRODID:-//ChamberMaster//Event Calendar 2.0//EN
METHOD:PUBLISH
X-PUBLISHED-TTL:P3D
REFRESH-INTERVAL:P3D
CALSCALE:GREGORIAN
BEGIN:VEVENT
DTSTART;VALUE=DATE:20110323
DTEND;VALUE=DATE:20110324
TRANSP:TRANSPARENT
X-MICROSOFT-CDO-ALLDAYEVENT:TRUE
SUMMARY:Empty Bowls Luncheon - Backpack Program
DESCRIPTION:Empty Bowls Luncheon\n\n\n\nCLASSIC'S BAR AND GRILL\n\n \n\n \n\nProceeds to benefit the Beatrice backpack program\n\nHelp us fill empty bowls of the needy\n\n \n\nWednesday\, MARCH 23RD \n\n11:30 a.m.   1:00 p.m.\n\n$25\n\n \n\nServing a variety of soups from Beatrice fine restaurants\n\n \n\nAttendees will receive a pottery bowl\n\ncrafted by BHS and SCC Art Students\n\n \n\nTickets are available for $25 by contacting\n\nKristy Thies 228-2333 kristy.thies@pinnbank.com\n\nPatty Kaufman 223-6398patty.kaufman@exmark.com\n\nPeggy Johnson 228-2456margaret_johnson@bpsne.org\n\nOr at Pinnacle & Security First Banks & the Beatrice Chamber Office
X-ALT-DESC;FMTTYPE=text/html:<strong><span style="font-size: 22px">Empty Bowls Luncheon</span><br />\n<br />\n<span style="font-size: 22pt"><span style="font-family: stencil">CLASSIC&rsquo\;S BAR AND GRILL</span></span></strong><br />\n&nbsp\;<br />\n&nbsp\;<br />\n<strong><span style="font-size: 26pt"><span style="color: #993300"><span style="font-family: stencil">Proceeds to benefit the Beatrice backpack program</span></span></span></strong><br />\n<strong><span style="font-size: 22pt"><span style="color: #993300"><span style="font-family: stencil">Help us fill empty bowls of the needy</span></span></span></strong><br />\n&nbsp\;<br />\n<strong><span style="font-size: 24pt"><span style="font-family: stencil">Wednesday\, MARCH 23<sup>RD</sup> </span></span></strong><br />\n<strong><span style="font-size: 24pt"><span style="font-family: stencil">11:30 a.m. &ndash\; 1:00 p.m.</span></span></strong><br />\n<strong><span style="font-size: 24pt"><span style="font-family: stencil">$25</span></span></strong><br />\n&nbsp\;<br />\n<span style="font-family: times new roman"><strong><span style="font-size: 18pt">Serving a variety of soups from Beatrice fine restaurants</span></strong></span><br />\n&nbsp\;<br />\n<strong><span style="font-size: 18pt"><span style="font-family: times new roman">Attendees will receive a pottery bowl</span></span></strong><br />\n<strong><span style="font-size: 18pt"><span style="font-family: times new roman">crafted by BHS and SCC Art Students</span></span></strong><br />\n&nbsp\;<br />\n<strong><span style="font-size: 20pt"><span style="font-family: arial black\, sans-serif">Tickets are available for $25 by contacting</span></span></strong><br />\n<strong><span style="font-size: 16pt"><span style="font-family: arial black\, sans-serif">Kristy Thies 228-2333 </span></span></strong><span style="font-size: 16pt"><span style="color: blue"><span style="font-family: arial\, sans-serif">kristy.thies@pinnbank.com</span></span></span><br />\n<strong><span style="font-size: 16pt"><span style="font-family: arial black\, sans-serif">Patty Kaufman 223-6398</span></span></strong><span style="font-size: 16pt"><span style="color: blue"><span style="font-family: arial\, sans-serif">patty.kaufman@exmark.com</span></span></span><br />\n<strong><span style="font-size: 16pt"><span style="font-family: arial black\, sans-serif">Peggy Johnson 228-2456</span></span></strong><span style="font-size: 16pt"><span style="color: blue"><span style="font-family: arial\, sans-serif">margaret_johnson@bpsne.org</span></span></span><br />\n<strong><span style="font-size: 17pt"><span style="font-family: times new roman">Or at Pinnacle &amp\; Security First Banks &amp\; the Beatrice Chamber Office</span></span></strong><br />\n
LOCATION:
UID:e.41.4038
SEQUENCE:3
DTSTAMP:20260424T211245Z
URL:https://business.beatricechamber.com/events/details/empty-bowls-luncheon-backpack-program-03-23-2011-4038
END:VEVENT

END:VCALENDAR
