BEGIN:VCALENDAR
VERSION:2.0
PRODID:-//ChamberMaster//Event Calendar 2.0//EN
METHOD:PUBLISH
X-PUBLISHED-TTL:P3D
REFRESH-INTERVAL:P3D
CALSCALE:GREGORIAN
BEGIN:VEVENT
DTSTART:20120321T163000Z
DTEND:20120321T180000Z
X-MICROSOFT-CDO-ALLDAYEVENT:FALSE
SUMMARY:Empty Bowls Soup Luncheon
DESCRIPTION:Empty Bowls Soup Luncheon\n\nto benefit Beatrice backpack program\n\n\n\nWednesday\, March 21\n\n11:30 am - 1 pm\n\n\n\nClassic's Bar & Grill\n\n1300 Oak Street\, Beatrice\n\n\n\nVariety of soups from Beatrice restaurants and caterers.  Donation cost: $25 per person.\n\n\n\nAttendees will receive a pottery bowl crafted by Beatrice High School and Southeast Community College art students\, or local artisans\, Ervin Dixon\, Patrick McKinney and Down Under Pottery. \n\n\n\nTickets:\n\nKristy Thies\, 402-223-3333\, kristy.thies@pinnbank.com\n\nPatty Kaufman\, 402-223-6398\, patty.kaufman@exmark.com\n\nPeggy Johnson\, 402-228-2456\, mjohnson@bspnebr.org\n\nPinnacle Bank\n\nSecurity First Bank\n\nBeatrice Area Chamber of Commerce\, 205 N 4th Street\, 402-223-2338\, info@beatricechamber.com
X-ALT-DESC;FMTTYPE=text/html:Empty Bowls Soup Luncheon<br />\nto benefit Beatrice backpack program<br />\n<br />\nWednesday\, March 21<br />\n11:30 am - 1 pm<br />\n<br />\nClassic&#39\;s Bar &amp\; Grill<br />\n1300 Oak Street\, Beatrice<br />\n<br />\nVariety of soups from Beatrice restaurants and caterers.&nbsp\; Donation cost: $25 per person.<br />\n<br />\nAttendees will receive a pottery bowl crafted by Beatrice High School and Southeast Community College art students\, or local artisans\, Ervin Dixon\, Patrick McKinney and Down Under Pottery.&nbsp\;<br />\n<br />\nTickets:<br />\nKristy Thies\, 402-223-3333\, kristy.thies@pinnbank.com<br />\nPatty Kaufman\, 402-223-6398\, patty.kaufman@exmark.com<br />\nPeggy Johnson\, 402-228-2456\, mjohnson@bspnebr.org<br />\nPinnacle Bank<br />\nSecurity First Bank<br />\nBeatrice Area Chamber of Commerce\, 205 N 4th Street\, 402-223-2338\, info@beatricechamber.com<br />\n<br />\n
LOCATION:
UID:e.41.5425
SEQUENCE:3
DTSTAMP:20260422T172032Z
URL:https://business.beatricechamber.com/events/details/empty-bowls-soup-luncheon-03-21-2012-5425
END:VEVENT

END:VCALENDAR
