BEGIN:VCALENDAR
VERSION:2.0
PRODID:-//ChamberMaster//Event Calendar 2.0//EN
METHOD:PUBLISH
X-PUBLISHED-TTL:P3D
REFRESH-INTERVAL:P3D
CALSCALE:GREGORIAN
BEGIN:VEVENT
DTSTART:20120108T173000Z
DTEND:20120108T200000Z
X-MICROSOFT-CDO-ALLDAYEVENT:FALSE
SUMMARY:"Endeavor for Trevor"\; a fundraiser for Trevor Sedlacek Family
DESCRIPTION:
X-ALT-DESC;FMTTYPE=text/html:
LOCATION:St Paul Lutheran School\, 930 Prairie Lane\, Beatrice
UID:e.41.5270
SEQUENCE:3
DTSTAMP:20260422T203302Z
URL:https://business.beatricechamber.com/events/details/endeavor-for-trevor-a-fundraiser-for-trevor-sedlacek-family-01-08-2012-5270
END:VEVENT

END:VCALENDAR
