BEGIN:VCALENDAR
VERSION:2.0
PRODID:-//ChamberMaster//Event Calendar 2.0//EN
METHOD:PUBLISH
X-PUBLISHED-TTL:P3D
REFRESH-INTERVAL:P3D
CALSCALE:GREGORIAN
BEGIN:VEVENT
DTSTART:20091130T180000Z
DTEND:20091130T230000Z
X-MICROSOFT-CDO-ALLDAYEVENT:FALSE
SUMMARY:enGAGEment Project - Gage County MAPS Coalition
DESCRIPTION:The enGAGEment ProjectNovember 3012:00 - 5:00 pm429 Factory (Goosen Building)923 West Court Street Your thoughts and ideas are valuable to your community.  Please spend an afternoon investing in the future of Gage County.  Peter Holly\, a known facilitator\, will be leading the group in forming connections and relationships to build upon a stronger\, healthier community. Peter Holly will be facilitating the group utilizing the Legacy Wheel. this process is designed to assist the coalition and the community with organization\, sustaining or building beneficial programming and will be the basis of the Drug Free Communities grant submission in the spring of 2010. Your thoughts and ideas are valuable to your community! Please spend an afternoon investing in the future of Gage County. Lunch is provided so please RSVP to Christina at 402-223-1500 Ext. 1059 or email at clyons@bpsne.org
X-ALT-DESC;FMTTYPE=text/html:<div><span style="font-size: large">&nbsp\;The enGAGEment Project</span></div><div><div style="margin-top: 10px" align="left"><div><div><div><div><div><div><div><div><div>November 30</div><div>12:00 - 5:00 pm</div><div>429 Factory (Goosen Building)</div><div>923 West Court Street</div><div>&nbsp\;</div><div>Your thoughts and ideas are valuable to your community.&nbsp\; Please spend an afternoon investing in the future of Gage County.&nbsp\; Peter Holly\, a known facilitator\, will be leading the group in forming connections and relationships to build upon a stronger\, healthier community.</div><div>&nbsp\;</div><div><div>Peter Holly will be facilitating the group utilizing the Legacy Wheel. this process is designed to assist the coalition and the community with organization\, sustaining or building beneficial programming and will be the basis of the Drug Free Communities grant submission in the spring of 2010. Your thoughts and ideas are valuable to your community! Please spend an afternoon investing in the future of Gage County.</div></div><div>&nbsp\;</div><div>Lunch is provided so please RSVP to Christina at 402-223-1500 Ext. 1059 or email at <a title="mailto:clyons@bpsne.org" target="_blank" shape="rect" href="mailto:clyons@bpsne.org">clyons@bpsne.org</a></div></div></div></div></div></div></div></div></div></div></div>
LOCATION:429 Factory (Goossen Building)923 W. Court Beatrice\, NE 68310
UID:e.41.1492
SEQUENCE:3
DTSTAMP:20260425T204730Z
URL:https://business.beatricechamber.com/events/details/engagement-project-gage-county-maps-coalition-11-30-2009-1492
END:VEVENT

END:VCALENDAR
