BEGIN:VCALENDAR
VERSION:2.0
PRODID:-//ChamberMaster//Event Calendar 2.0//EN
METHOD:PUBLISH
X-PUBLISHED-TTL:P3D
REFRESH-INTERVAL:P3D
CALSCALE:GREGORIAN
BEGIN:VEVENT
DTSTART;VALUE=DATE:20110618
DTEND;VALUE=DATE:20110619
TRANSP:TRANSPARENT
X-MICROSOFT-CDO-ALLDAYEVENT:TRUE
SUMMARY:Entertainment in the Park
DESCRIPTION:Starts at 11 a.m. in Chautauqua Park\, Beatrice.  Jek the Juggler\, Poppin' Penelope & The Condors will be there for your entertainment!
X-ALT-DESC;FMTTYPE=text/html:Starts at 11 a.m. in Chautauqua Park\, Beatrice.&nbsp\; Jek the Juggler\, Poppin&#39\; Penelope &amp\; The Condors will be there for your entertainment!
LOCATION:
UID:e.41.4904
SEQUENCE:3
DTSTAMP:20260424T165610Z
URL:https://business.beatricechamber.com/events/details/entertainment-in-the-park-06-18-2011-4904
END:VEVENT

END:VCALENDAR
