BEGIN:VCALENDAR
VERSION:2.0
PRODID:-//ChamberMaster//Event Calendar 2.0//EN
METHOD:PUBLISH
X-PUBLISHED-TTL:P3D
REFRESH-INTERVAL:P3D
CALSCALE:GREGORIAN
BEGIN:VEVENT
DTSTART:20090811T000000Z
DTEND:20090811T010000Z
X-MICROSOFT-CDO-ALLDAYEVENT:FALSE
SUMMARY:ESU 5 Board Meeting
DESCRIPTION:The board of Educational Service Unit 5 will meet in regular sessionMonday\, August 3\, 20097:00 pmESU5 - 900 W Court St
X-ALT-DESC;FMTTYPE=text/html:<div>The board of Educational Service Unit 5 will meet in regular session</div><div>Monday\, August 3\, 2009</div><div>7:00 pm</div><div>ESU5 - 900 W Court St</div>
LOCATION:
UID:e.41.1356
SEQUENCE:3
DTSTAMP:20260426T011838Z
URL:https://business.beatricechamber.com/events/details/esu-5-board-meeting-08-10-2009-1356
END:VEVENT

END:VCALENDAR
