BEGIN:VCALENDAR
VERSION:2.0
PRODID:-//ChamberMaster//Event Calendar 2.0//EN
METHOD:PUBLISH
X-PUBLISHED-TTL:P3D
REFRESH-INTERVAL:P3D
CALSCALE:GREGORIAN
BEGIN:VEVENT
DTSTART:20091013T230000Z
DTEND:20091014T010000Z
X-MICROSOFT-CDO-ALLDAYEVENT:FALSE
SUMMARY:Evening in Pink
DESCRIPTION:8th Annual Breast Cancer Awareness EventAn Evening in PinkTuesday\, October 13th Doors Open at 6:00 pm Classic's Restaurant1301 Oak Street "Hats Off to You!" Speaker & Entertainment Hors D'oeuvre Plate & Beverage$6 Advance Ticket Purchase Required Auction:  Pink Tractor & trailer (On display at The Kensington)Jewelry Raffle\, Door prizes & Music Tickets available at BCH\, Parkview Center & Wymore Medical Center
X-ALT-DESC;FMTTYPE=text/html:<div>8th Annual Breast Cancer Awareness Event</div><div>An Evening in Pink</div><div>Tuesday\, October 13th</div><div>&nbsp\;</div><div>Doors Open at 6:00 pm Classic's Restaurant</div><div>1301 Oak Street</div><div>&nbsp\;</div><div>&quot\;Hats Off to You!&quot\;&nbsp\;</div><div>Speaker &amp\; Entertainment</div><div>&nbsp\;</div><div>Hors D'oeuvre Plate &amp\;&nbsp\;Beverage</div><div>$6 Advance Ticket Purchase Required</div><div>&nbsp\;</div><div>Auction:&nbsp\; Pink Tractor &amp\; trailer (On display at The Kensington)</div><div>Jewelry Raffle\, Door prizes &amp\;&nbsp\;Music</div><div>&nbsp\;</div><div>Tickets available at BCH\, Parkview Center &amp\;&nbsp\;Wymore Medical Center</div>
LOCATION:
UID:e.41.961
SEQUENCE:3
DTSTAMP:20260425T221222Z
URL:https://business.beatricechamber.com/events/details/evening-in-pink-10-13-2009-961
END:VEVENT

END:VCALENDAR
