BEGIN:VCALENDAR
VERSION:2.0
PRODID:-//ChamberMaster//Event Calendar 2.0//EN
METHOD:PUBLISH
X-PUBLISHED-TTL:P3D
REFRESH-INTERVAL:P3D
CALSCALE:GREGORIAN
BEGIN:VEVENT
DTSTART;VALUE=DATE:20100311
DTEND;VALUE=DATE:20100312
TRANSP:TRANSPARENT
X-MICROSOFT-CDO-ALLDAYEVENT:TRUE
SUMMARY:Evening Meal at the Senior Center
DESCRIPTION:Evening meal at the Beatrice Senior Center101 N 25th StreetBeatrice\, NE Program by Sylvia Griffiths\, vocal/guitar entertainment. Make reservations one day prior by calling 223-1357
X-ALT-DESC;FMTTYPE=text/html:<div>Evening meal at the Beatrice Senior Center</div><div>101 N 25th Street</div><div>Beatrice\, NE</div><div>&nbsp\;</div><div>Program by Sylvia Griffiths\, vocal/guitar entertainment.</div><div>&nbsp\;</div><div>Make reservations one day prior by calling 223-1357</div>
LOCATION:
UID:e.41.1671
SEQUENCE:3
DTSTAMP:20260425T153216Z
URL:https://business.beatricechamber.com/events/details/evening-meal-at-the-senior-center-03-11-2010-1671
END:VEVENT

END:VCALENDAR
