BEGIN:VCALENDAR
VERSION:2.0
PRODID:-//ChamberMaster//Event Calendar 2.0//EN
METHOD:PUBLISH
X-PUBLISHED-TTL:P3D
REFRESH-INTERVAL:P3D
CALSCALE:GREGORIAN
BEGIN:VEVENT
DTSTART;VALUE=DATE:20110920
DTEND;VALUE=DATE:20110921
TRANSP:TRANSPARENT
X-MICROSOFT-CDO-ALLDAYEVENT:TRUE
SUMMARY:Event at Inline Healing
DESCRIPTION:Raising Healthy Kids in Today's World Presentation With Dr. May
X-ALT-DESC;FMTTYPE=text/html:Raising Healthy Kids in Today&#39\;s World Presentation With Dr. May 
LOCATION:Beatrice Public Library in the Sargent Conference Room
UID:e.41.5070
SEQUENCE:3
DTSTAMP:20260424T122819Z
URL:https://business.beatricechamber.com/events/details/event-at-inline-healing-09-20-2011-5070
END:VEVENT

END:VCALENDAR
