BEGIN:VCALENDAR
VERSION:2.0
PRODID:-//ChamberMaster//Event Calendar 2.0//EN
METHOD:PUBLISH
X-PUBLISHED-TTL:P3D
REFRESH-INTERVAL:P3D
CALSCALE:GREGORIAN
BEGIN:VEVENT
DTSTART:20101210T013000Z
DTEND:20101212T013000Z
X-MICROSOFT-CDO-ALLDAYEVENT:FALSE
SUMMARY:Every Christmas Story Ever Told( And Then Some)
DESCRIPTION:Three zany actors take a breakneck journey through Christmas stories and traditions from around the world.
X-ALT-DESC;FMTTYPE=text/html:Three zany actors take a breakneck journey through Christmas stories and traditions from around the world.
LOCATION:Beatrice Communtiy Players
UID:e.41.1688
SEQUENCE:3
DTSTAMP:20260425T014719Z
URL:https://business.beatricechamber.com/events/details/every-christmas-story-ever-told-and-then-some-12-09-2010-1688
END:VEVENT

END:VCALENDAR
