BEGIN:VCALENDAR
VERSION:2.0
PRODID:-//ChamberMaster//Event Calendar 2.0//EN
METHOD:PUBLISH
X-PUBLISHED-TTL:P3D
REFRESH-INTERVAL:P3D
CALSCALE:GREGORIAN
BEGIN:VEVENT
DTSTART:20101212T200000Z
DTEND:20101212T200000Z
X-MICROSOFT-CDO-ALLDAYEVENT:FALSE
SUMMARY:Every Christmas Story Ever Told (and then some!)
DESCRIPTION:Community Players:\n\n\n\nEvery Christmas Story Ever Told (and then some!)\n\n\n\nAn eggnog and fruitcake fuel frenzy of holiday comedy
X-ALT-DESC;FMTTYPE=text/html:<strong><span style="font-size: 14px\;">Community Players:</span></strong><br />\n<br />\nEvery Christmas Story Ever Told (and then some!)<br />\n<br />\nAn eggnog and fruitcake fuel frenzy of holiday comedy<br />\n
LOCATION:
UID:e.41.2875
SEQUENCE:3
DTSTAMP:20260425T014720Z
URL:https://business.beatricechamber.com/events/details/every-christmas-story-ever-told-and-then-some-12-12-2010-2875
END:VEVENT

END:VCALENDAR
