BEGIN:VCALENDAR
VERSION:2.0
PRODID:-//ChamberMaster//Event Calendar 2.0//EN
METHOD:PUBLISH
X-PUBLISHED-TTL:P3D
REFRESH-INTERVAL:P3D
CALSCALE:GREGORIAN
BEGIN:VEVENT
DTSTART:20110411T123000Z
DTEND:20110412T013000Z
X-MICROSOFT-CDO-ALLDAYEVENT:FALSE
SUMMARY:Executive Board of Directors
DESCRIPTION:Beatrice Area Chamber of Commerce\n\nExecutive Board of Directors Meeting\n\n\n\nMonday\, April 11\n\n7:30 a.m.\n\n\n\nCity Auditorium Conference Room
X-ALT-DESC;FMTTYPE=text/html:Beatrice Area Chamber of Commerce<br />\nExecutive Board of Directors Meeting<br />\n<br />\nMonday\, April 11<br />\n7:30 a.m.<br />\n<br />\nCity Auditorium Conference Room
LOCATION:
UID:e.41.4414
SEQUENCE:3
DTSTAMP:20260424T195112Z
URL:https://business.beatricechamber.com/events/details/executive-board-of-directors-04-11-2011-4414
END:VEVENT

END:VCALENDAR
