BEGIN:VCALENDAR
VERSION:2.0
PRODID:-//ChamberMaster//Event Calendar 2.0//EN
METHOD:PUBLISH
X-PUBLISHED-TTL:P3D
REFRESH-INTERVAL:P3D
CALSCALE:GREGORIAN
BEGIN:VEVENT
DTSTART:20091106T210000Z
DTEND:20091107T010000Z
X-MICROSOFT-CDO-ALLDAYEVENT:FALSE
SUMMARY:Eyecare Frame Show
DESCRIPTION:Designer Frame Show - Friday\, November 6 from 3-7pm30% Off Designer Frames\, Prescription Lenses and Sunglasses.Representatives from Dior\, Giorgio Armani\, Gucci\, Kate Spade\, Banana Republic\, Liz Claiborne\, Nine West and other leading designers will be at the show.Enjoy Hor d'oeuvres and RefreshmentsRegister to win great prizes.
X-ALT-DESC;FMTTYPE=text/html:<div><font size="2"><span lang="EN"><p>Designer Frame Show - Friday\, November 6 from 3-7pm</p><p>30% Off Designer Frames\, Prescription Lenses and Sunglasses.</p><p>Representatives from Dior\, Giorgio Armani\, Gucci\, Kate Spade\, Banana Republic\, Liz Claiborne\, Nine West and other leading designers will be at the show.</p><p>Enjoy Hor d'oeuvres and Refreshments</p><p>Register to win great prizes.</p></span></font></div>
LOCATION:
UID:e.41.1504
SEQUENCE:3
DTSTAMP:20260425T205229Z
URL:https://business.beatricechamber.com/events/details/eyecare-frame-show-11-06-2009-1504
END:VEVENT

END:VCALENDAR
