BEGIN:VCALENDAR
VERSION:2.0
PRODID:-//ChamberMaster//Event Calendar 2.0//EN
METHOD:PUBLISH
X-PUBLISHED-TTL:P3D
REFRESH-INTERVAL:P3D
CALSCALE:GREGORIAN
BEGIN:VEVENT
DTSTART;VALUE=DATE:20120512
DTEND;VALUE=DATE:20120513
TRANSP:TRANSPARENT
X-MICROSOFT-CDO-ALLDAYEVENT:TRUE
SUMMARY:Fairbury Cycling Tour
DESCRIPTION:The Fairbury Cycling Tour\, now in its fourth year\, will be held Saturday\, May 12\, beginning with registration at 7:30 a.m. at the Bob Center in Fairbury. The ride begins at 8.\n\nThere are five routes: 12 miles-Fairbury-Jansen-Fairbury\; 25 miles Fairbury-Endicott-Jansen-Fairbury\; 48 miles - Fairbury-Odell-Fairbury\; 60 miles - Fairbury-Odell-Harbine-Jansen-Fairbury\; 70 miles- Fairbury-Odell-Harbine-Jansen-Endicott-Fairbury.\n\nAll routes will be on Nebraska highways\, and start and stop in Fairbury. The ride is open to all ages. All riders must wear helmets. SAG support will be available until 2 p.m. from a roving vehicle equipped with bicycle supplies\, water and food. Rest stops will be available along the route.\n\nRegistration is $30 until April 20\, including a T-shirt. After April 20 through the day of the ride\, registration is $35\, with no T-shirt offered. Children 12-and-younger day free\, and must be accompanied by an adult.\n\nRegistration forms are available at Bob and Wauneta Burkley Wellness Center in Fairbury. For more information\, contact the wellness center at 402-729-6139\; or Jackie Gregory at 402-239-3559.
X-ALT-DESC;FMTTYPE=text/html:The Fairbury Cycling Tour\,&nbsp\;now in its fourth&nbsp\;year\, will&nbsp\;be held&nbsp\;Saturday\, May 12\, beginning&nbsp\;with&nbsp\;registration at&nbsp\;7:30 a.m.&nbsp\;at the Bob Center in Fairbury. The ride begins at&nbsp\;8.<br />\nThere are five routes:&nbsp\;12 miles-Fairbury-Jansen-Fairbury\;&nbsp\;25 miles&nbsp\;Fairbury-Endicott-Jansen-Fairbury\;&nbsp\;48&nbsp\;miles - Fairbury-Odell-Fairbury\;&nbsp\;60&nbsp\;miles&nbsp\;- Fairbury-Odell-Harbine-Jansen-Fairbury\;&nbsp\;70 miles-&nbsp\;Fairbury-Odell-Harbine-Jansen-Endicott-Fairbury.<br />\nAll routes&nbsp\;will&nbsp\;be on Nebraska highways\, and start and stop in Fairbury.&nbsp\;The ride&nbsp\;is open to all ages. All riders must wear&nbsp\;helmets.&nbsp\;SAG support&nbsp\;will be available&nbsp\;until 2&nbsp\;p.m.&nbsp\;from a roving vehicle&nbsp\;equipped&nbsp\;with bicycle&nbsp\;supplies\, water and food. Rest stops&nbsp\;will be available&nbsp\;along the route.<br />\nRegistration&nbsp\;is $30&nbsp\;until&nbsp\;April 20\, including&nbsp\;a T-shirt. After&nbsp\;April 20 through the day of the ride\, registration is&nbsp\;$35\, with no T-shirt offered.&nbsp\;Children 12-and-younger day&nbsp\;free\, and must&nbsp\;be accompanied&nbsp\;by an adult.<br />\nRegistration&nbsp\;forms are available&nbsp\;at Bob&nbsp\;and Wauneta Burkley Wellness Center in Fairbury. For more information\, contact the wellness&nbsp\;center at 402-729-6139\; or&nbsp\;Jackie Gregory at&nbsp\;402-239-3559.
LOCATION:
UID:e.41.5498
SEQUENCE:3
DTSTAMP:20260422T142558Z
URL:https://business.beatricechamber.com/events/details/fairbury-cycling-tour-05-12-2012-5498
END:VEVENT

END:VCALENDAR
