BEGIN:VCALENDAR
VERSION:2.0
PRODID:-//ChamberMaster//Event Calendar 2.0//EN
METHOD:PUBLISH
X-PUBLISHED-TTL:P3D
REFRESH-INTERVAL:P3D
CALSCALE:GREGORIAN
BEGIN:VEVENT
DTSTART;VALUE=DATE:20100225
DTEND;VALUE=DATE:20100226
TRANSP:TRANSPARENT
X-MICROSOFT-CDO-ALLDAYEVENT:TRUE
SUMMARY:Faith Partners
DESCRIPTION:Gage County MAPS is hosting a training for the faith community.  The series is designed to involve pastors or anyone interested in reaching out to their churches involving prevention\, treatment and recovery from substance abuse issues.
X-ALT-DESC;FMTTYPE=text/html:Gage County MAPS is hosting a training for the faith community.  The series is designed to involve pastors or anyone interested in reaching out to their churches involving prevention\, treatment and recovery from substance abuse issues. 
LOCATION:429 Factory - 923 W. Court
UID:e.41.1582
SEQUENCE:3
DTSTAMP:20260425T165302Z
URL:https://business.beatricechamber.com/events/details/faith-partners-02-25-2010-1582
END:VEVENT

END:VCALENDAR
