BEGIN:VCALENDAR
VERSION:2.0
PRODID:-//ChamberMaster//Event Calendar 2.0//EN
METHOD:PUBLISH
X-PUBLISHED-TTL:P3D
REFRESH-INTERVAL:P3D
CALSCALE:GREGORIAN
BEGIN:VEVENT
DTSTART:20090924T123000Z
DTEND:20090924T140000Z
X-MICROSOFT-CDO-ALLDAYEVENT:FALSE
SUMMARY:Fall Forum Eggs & Issues
DESCRIPTION:Eggs & IssuesNebraska State Chamber Legislative 2009 UpdatePresented by President Barry Kennedy Thursday\, September 24th7:30 am Hosted at Homestead House2300 Lincoln Blvd Topics to be discussed:Sales Tax ExpansionCard CheckPaid LeaveInsurance MandatesExemption for Ag-machinery repairs & parts
X-ALT-DESC;FMTTYPE=text/html:<div><strong>Eggs &amp\;&nbsp\;Issues</strong></div><div><strong>Nebraska State Chamber Legislative 2009 Update</strong></div><div><strong>Presented by President Barry Kennedy</strong></div><div>&nbsp\;</div><div>Thursday\, September 24th</div><div>7:30 am</div><div>&nbsp\;</div><div>Hosted at Homestead House</div><div>2300 Lincoln Blvd</div><div>&nbsp\;</div><div><strong>Topics to be discussed:</strong></div><div>Sales Tax Expansion</div><div>Card Check</div><div>Paid Leave</div><div>Insurance Mandates</div><div>Exemption for Ag-machinery repairs &amp\; parts</div>
LOCATION:
UID:e.41.1390
SEQUENCE:3
DTSTAMP:20260425T232858Z
URL:https://business.beatricechamber.com/events/details/fall-forum-eggs-issues-09-24-2009-1390
END:VEVENT

END:VCALENDAR
