BEGIN:VCALENDAR
VERSION:2.0
PRODID:-//ChamberMaster//Event Calendar 2.0//EN
METHOD:PUBLISH
X-PUBLISHED-TTL:P3D
REFRESH-INTERVAL:P3D
CALSCALE:GREGORIAN
BEGIN:VEVENT
DTSTART;VALUE=DATE:20101107
DTEND;VALUE=DATE:20101108
TRANSP:TRANSPARENT
X-MICROSOFT-CDO-ALLDAYEVENT:TRUE
SUMMARY:Fall lunch and bake sale
DESCRIPTION:Fall Lunch and Bake Sale\n\n\n\nThe Wilber United Methodist Women and Church\n\n223 W. Fourth St.\, will host a fall lunch and bake sale Nov. 7\, from 11 a.m.- 1:30 p.m.\n\n\n\nMenu will include liver dumpling soup\, pork\, sauerkraut and dumplings\, green beans\, corn\, rye bread\, salads\, pies and ice cream.\n\n\n\nFreewill donation will be accepted
X-ALT-DESC;FMTTYPE=text/html:<strong><span style="font-size: 14px">Fall Lunch and Bake Sale</span></strong><br />\n<br />\nThe Wilber United Methodist Women and Church<br />\n223 W. Fourth St.\, will host a fall lunch and bake sale Nov. 7\, from 11 a.m.- 1:30 p.m.<br />\n<br />\nMenu will include liver dumpling soup\, pork\, sauerkraut and dumplings\, green beans\, corn\, rye bread\, salads\, pies and ice cream.<br />\n<br />\n<strong>Freewill donation will be accepted</strong>
LOCATION:
UID:e.41.2751
SEQUENCE:3
DTSTAMP:20260425T032638Z
URL:https://business.beatricechamber.com/events/details/fall-lunch-and-bake-sale-11-07-2010-2751
END:VEVENT

END:VCALENDAR
