BEGIN:VCALENDAR
VERSION:2.0
PRODID:-//ChamberMaster//Event Calendar 2.0//EN
METHOD:PUBLISH
X-PUBLISHED-TTL:P3D
REFRESH-INTERVAL:P3D
CALSCALE:GREGORIAN
BEGIN:VEVENT
DTSTART;VALUE=DATE:20111112
DTEND;VALUE=DATE:20111114
TRANSP:TRANSPARENT
X-MICROSOFT-CDO-ALLDAYEVENT:TRUE
SUMMARY:Falling in Love with Art Show
DESCRIPTION:"Falling in Love with Art Show"\n\n	Located on the second floor of the Plaza Building on the southeast corner of 6th and Court Streets in Beatrice\, NE.\n\n	\n\n	Featured Artists:\n\n	Teri Clark - Slumped Glass\n\n	Patrick McKinney - Pottery\n\n	Erna Beach - Wood Carving\n\n	Art Whitton - Photography\n\n	Cindy Chinn - Acrylic Painting\n\n	Lucky Stradley - Sculptural Pottery\n\n	\n\n	Additional Art by Beatrice Art Guild Members\n\n	\n\n	Show Dates:\n\n	November 12: 11 am - 4:30 pm\n\n	November 13: 1 pm - 4:30 pm\n\n	November 19: 11 am - 4:30 pm\n\n	November 20: 1 pm - 4:30 pm\n\n	\n\n	Beatrice Art Guild\n\n	108 S 6th Street\, Suite 218\n\n	Beatrice\, NE  68310
X-ALT-DESC;FMTTYPE=text/html:<p>\n	&quot\;Falling in Love with Art Show&quot\;<br />\n	Located on the second floor of the Plaza Building on the southeast corner of 6th and Court Streets in Beatrice\, NE.<br />\n	<br />\n	Featured Artists:<br />\n	Teri Clark - Slumped Glass<br />\n	Patrick McKinney - Pottery<br />\n	Erna Beach - Wood Carving<br />\n	Art Whitton - Photography<br />\n	Cindy Chinn - Acrylic Painting<br />\n	Lucky Stradley - Sculptural Pottery<br />\n	<br />\n	Additional Art by Beatrice Art Guild Members<br />\n	<br />\n	Show Dates:<br />\n	November 12: 11 am - 4:30 pm<br />\n	November 13: 1 pm - 4:30 pm<br />\n	November 19: 11 am - 4:30 pm<br />\n	November 20: 1&nbsp\;pm - 4:30 pm<br />\n	<br />\n	Beatrice Art Guild<br />\n	108 S 6th Street\, Suite 218<br />\n	Beatrice\, NE&nbsp\; 68310</p>\n
LOCATION:
UID:e.41.5245
SEQUENCE:3
DTSTAMP:20260424T105643Z
URL:https://business.beatricechamber.com/events/details/falling-in-love-with-art-show-11-12-2011-5245
END:VEVENT

END:VCALENDAR
