BEGIN:VCALENDAR
VERSION:2.0
PRODID:-//ChamberMaster//Event Calendar 2.0//EN
METHOD:PUBLISH
X-PUBLISHED-TTL:P3D
REFRESH-INTERVAL:P3D
CALSCALE:GREGORIAN
BEGIN:VEVENT
DTSTART;VALUE=DATE:20101126
DTEND;VALUE=DATE:20101129
TRANSP:TRANSPARENT
X-MICROSOFT-CDO-ALLDAYEVENT:TRUE
SUMMARY:Family activities Thanksgiving Weekend
DESCRIPTION:Family activities at homestead National Monument:\n\n\n\nParents and grandparents b ring your children or grandchildren to Homestead National Monument of America to become Junior Rangers during the Thanksgiving Holiday weekend. Visitors can also celebrate the beginning of the Winter Festival of Prarie Cultures Nov. 28 with a program on German Russians by Jim Griess. He will give a presentation at the Education Center at 2 p.m.\n\n\n\nFor more information on the Monument's programs or activities\, please call 402-223-3514.\n\n\n\nCurrent hours of operation are 8:30 a.m. to 5:00 p.m. Monday through Friday and 9:00 a.m. - 5p.m. on the weekends.
X-ALT-DESC;FMTTYPE=text/html:<strong><span style="font-size: 14px">Family activities at homestead National Monument:</span></strong><br />\n<br />\nParents and grandparents b ring your children or grandchildren to Homestead National Monument of America to become Junior Rangers during the Thanksgiving Holiday weekend. Visitors can also celebrate the beginning of the Winter Festival of Prarie Cultures Nov. 28 with a program on German Russians by Jim Griess. He will give a presentation at the Education Center at 2 p.m.<br />\n<br />\nFor more information on the Monument&#39\;s programs or activities\, please call 402-223-3514.<br />\n<br />\nCurrent hours of operation are 8:30 a.m. to 5:00 p.m. Monday through Friday and 9:00 a.m. - 5p.m. on the weekends.
LOCATION:
UID:e.41.2830
SEQUENCE:3
DTSTAMP:20260425T032834Z
URL:https://business.beatricechamber.com/events/details/family-activities-thanksgiving-weekend-11-26-2010-2830
END:VEVENT

END:VCALENDAR
