BEGIN:VCALENDAR
VERSION:2.0
PRODID:-//ChamberMaster//Event Calendar 2.0//EN
METHOD:PUBLISH
X-PUBLISHED-TTL:P3D
REFRESH-INTERVAL:P3D
CALSCALE:GREGORIAN
BEGIN:VEVENT
DTSTART;VALUE=DATE:20110318
DTEND;VALUE=DATE:20110320
TRANSP:TRANSPARENT
X-MICROSOFT-CDO-ALLDAYEVENT:TRUE
SUMMARY:"Family Camp" dinner theater youth fundraiser
DESCRIPTION:"Family Camp" dinner theater youth fundraiser\n\n\n\nFriday\, March 18 & Saturday\, March 19\n\n6 p.m.\n\n\n\nThe 429 Factory\n\n923 W Court Street\n\nBeatrice\n\n\n\nTickets sold in advance\; $10 per person\n\nCall (402)806-4225 or stop by the 429 Factory
X-ALT-DESC;FMTTYPE=text/html:&quot\;Family Camp&quot\; dinner theater youth fundraiser<br />\n<br />\nFriday\, March 18 &amp\; Saturday\, March 19<br />\n6 p.m.<br />\n<br />\nThe 429 Factory<br />\n923 W Court Street<br />\nBeatrice<br />\n<br />\nTickets sold in advance\; $10 per person<br />\nCall (402)806-4225 or stop by the 429 Factory
LOCATION:
UID:e.41.4257
SEQUENCE:3
DTSTAMP:20260424T212623Z
URL:https://business.beatricechamber.com/events/details/family-camp-dinner-theater-youth-fundraiser-03-18-2011-4257
END:VEVENT

END:VCALENDAR
