BEGIN:VCALENDAR
VERSION:2.0
PRODID:-//ChamberMaster//Event Calendar 2.0//EN
METHOD:PUBLISH
X-PUBLISHED-TTL:P3D
REFRESH-INTERVAL:P3D
CALSCALE:GREGORIAN
BEGIN:VEVENT
DTSTART:20110616T220000Z
DTEND:20110617T010000Z
X-MICROSOFT-CDO-ALLDAYEVENT:FALSE
SUMMARY:Family Fun NIght
DESCRIPTION:From 5-8 p.m. at the Beatrice High School.   Kids activities\, inflatables and Happy D. Klown.  Bills BBQ until sold out.  $7.50 per person.  Concessions will be available also.
X-ALT-DESC;FMTTYPE=text/html:From 5-8 p.m. at the Beatrice High School.&nbsp\;&nbsp\; Kids activities\, inflatables and Happy D. Klown.&nbsp\; Bills BBQ until sold out.&nbsp\; $7.50 per person.&nbsp\; Concessions will be available also.<br />\n
LOCATION:
UID:e.41.4884
SEQUENCE:3
DTSTAMP:20260424T165608Z
URL:https://business.beatricechamber.com/events/details/family-fun-night-06-16-2011-4884
END:VEVENT

END:VCALENDAR
