BEGIN:VCALENDAR
VERSION:2.0
PRODID:-//ChamberMaster//Event Calendar 2.0//EN
METHOD:PUBLISH
X-PUBLISHED-TTL:P3D
REFRESH-INTERVAL:P3D
CALSCALE:GREGORIAN
BEGIN:VEVENT
DTSTART;VALUE=DATE:20100508
DTEND;VALUE=DATE:20100509
TRANSP:TRANSPARENT
X-MICROSOFT-CDO-ALLDAYEVENT:TRUE
SUMMARY:Family Transportation & Career Day 5/8/10
DESCRIPTION:Family Transportation & Career Day~Rain or Shine~For families and children of all ages to explore the world of Transportation and Careers! Saturday\, May 8\, 201010 a.m. - NoonSoutheast Community College parking lot *Bring canned goods to support your BVCA food pantry!*Bring your camera and get your picture taken by a Race Car! Sponsored by: BVCA\, Beatrice Head Start Program\, Southeast Community College\, MAPS Gage County Coalition\, & Mother to Mother Ministry
X-ALT-DESC;FMTTYPE=text/html:<div>Family Transportation &amp\;&nbsp\;Career Day</div><div>~Rain or Shine~</div><div>For families and children of all ages to explore the world of Transportation and Careers!</div><div>&nbsp\;</div><div>Saturday\, May 8\, 2010</div><div>10 a.m. - Noon</div><div>Southeast Community College parking lot</div><div>&nbsp\;</div><div>*Bring canned goods to support your BVCA food pantry!</div><div>*Bring your camera and get your picture taken by a Race Car!</div><div>&nbsp\;</div><div>Sponsored by: BVCA\, Beatrice Head Start Program\, Southeast Community College\, MAPS&nbsp\;Gage County Coalition\, &amp\;&nbsp\;Mother to Mother Ministry</div>
LOCATION:
UID:e.41.1987
SEQUENCE:3
DTSTAMP:20260425T122937Z
URL:https://business.beatricechamber.com/events/details/family-transportation-career-day-5-8-10-05-08-2010-1987
END:VEVENT

END:VCALENDAR
