BEGIN:VCALENDAR
VERSION:2.0
PRODID:-//ChamberMaster//Event Calendar 2.0//EN
METHOD:PUBLISH
X-PUBLISHED-TTL:P3D
REFRESH-INTERVAL:P3D
CALSCALE:GREGORIAN
BEGIN:VEVENT
DTSTART:20101203T000000Z
DTEND:20101203T020000Z
X-MICROSOFT-CDO-ALLDAYEVENT:FALSE
SUMMARY:Fantasy of Trees
DESCRIPTION:Raffle (items provided by local businesses)\, Fashion Show (clothing provided by Maurices\, Buckle Inc.\, Alco\, Schweser's\, and Curves)\, KWBE Giveaway\, and Free Entertainment (Provided by Beatricce High School directed by Kelly Meyer). All proceeds to benefit Gage County Wishlist! Come Join us for a fun filled evening!
X-ALT-DESC;FMTTYPE=text/html:Raffle (items provided by local businesses)\, Fashion Show (clothing provided by Maurices\, Buckle Inc.\, Alco\, Schweser's\, and Curves)\, KWBE Giveaway\, and Free Entertainment (Provided by Beatricce High School directed by Kelly Meyer). All proceeds to benefit Gage County Wishlist! Come Join us for a fun filled evening!
LOCATION:Indian Creek Mall
UID:e.41.2759
SEQUENCE:3
DTSTAMP:20260425T014259Z
URL:https://business.beatricechamber.com/events/details/fantasy-of-trees-12-02-2010-2759
END:VEVENT

END:VCALENDAR
